BEGIN:VCALENDAR
VERSION:2.0
PRODID:-//Nyumba Ya Mumbi welfare organization - ECPv5.5.0.1//NONSGML v1.0//EN
CALSCALE:GREGORIAN
METHOD:PUBLISH
X-WR-CALNAME:Nyumba Ya Mumbi welfare organization
X-ORIGINAL-URL:https://www.nyumbamumbi.org
X-WR-CALDESC:Events for Nyumba Ya Mumbi welfare organization
BEGIN:VTIMEZONE
TZID:America/Chicago
BEGIN:DAYLIGHT
TZOFFSETFROM:-0600
TZOFFSETTO:-0500
TZNAME:CDT
DTSTART:20180311T080000
END:DAYLIGHT
BEGIN:STANDARD
TZOFFSETFROM:-0500
TZOFFSETTO:-0600
TZNAME:CST
DTSTART:20181104T070000
END:STANDARD
END:VTIMEZONE
BEGIN:VEVENT
DTSTART;TZID=America/Chicago:20180429T143000
DTEND;TZID=America/Chicago:20180429T170000
DTSTAMP:20260421T143013
CREATED:20180415T060051Z
LAST-MODIFIED:20180415T060340Z
UID:3384-1525012200-1525021200@www.nyumbamumbi.org
SUMMARY:General Meeting
DESCRIPTION:
URL:https://www.nyumbamumbi.org/events/general-meeting/
LOCATION: Matt Ross Community Center.\, 8101 Marty St.\, Overland Park\, KS\, 66204\, United States
END:VEVENT
END:VCALENDAR