BEGIN:VCALENDAR
VERSION:2.0
PRODID:-//Nyumba Ya Mumbi welfare organization - ECPv5.5.0.1//NONSGML v1.0//EN
CALSCALE:GREGORIAN
METHOD:PUBLISH
X-WR-CALNAME:Nyumba Ya Mumbi welfare organization
X-ORIGINAL-URL:https://www.nyumbamumbi.org
X-WR-CALDESC:Events for Nyumba Ya Mumbi welfare organization
BEGIN:VTIMEZONE
TZID:UTC
BEGIN:STANDARD
TZOFFSETFROM:+0000
TZOFFSETTO:+0000
TZNAME:UTC
DTSTART:20170101T000000
END:STANDARD
TZID:America/Denver
BEGIN:DAYLIGHT
TZOFFSETFROM:-0700
TZOFFSETTO:-0600
TZNAME:MDT
DTSTART:20180311T090000
END:DAYLIGHT
BEGIN:STANDARD
TZOFFSETFROM:-0600
TZOFFSETTO:-0700
TZNAME:MST
DTSTART:20181104T080000
END:STANDARD
END:VTIMEZONE
BEGIN:VEVENT
DTSTART;VALUE=DATE:20170729
DTEND;VALUE=DATE:20180312
DTSTAMP:20260421T210107
CREATED:20170125T023433Z
LAST-MODIFIED:20170125T023433Z
UID:2573-1501286400-1520812799@www.nyumbamumbi.org
SUMMARY:Concert for donation
DESCRIPTION:Who’s that then? Shh! Knights\, I bid you welcome to your new home. Let us ride to Camelot! Ah\, now we see the violence inherent in the system! The Lady of the Lake\, her arm clad in the purest shimmering samite\, held aloft Excalibur from the bosom of the water\, signifying by divine providence that I\, Arthur\, was to carry Excalibur. That is why I am your king. Camelot!
URL:https://www.nyumbamumbi.org/events/concert-for-donations/
CATEGORIES:Family Fun
ATTACH;FMTTYPE=image/jpeg:https://www.nyumbamumbi.org/wp-content/uploads/2017/01/concerts-1150042_1920.jpg
END:VEVENT
BEGIN:VEVENT
DTSTART;VALUE=DATE:20171021
DTEND;VALUE=DATE:20180402
DTSTAMP:20260421T210107
CREATED:20170125T023433Z
LAST-MODIFIED:20180326T034547Z
UID:2571-1508544000-1522627199@www.nyumbamumbi.org
SUMMARY:Picnic
DESCRIPTION:Your text here
URL:https://www.nyumbamumbi.org/events/music-event-for-donation/
CATEGORIES:Nightlife
ATTACH;FMTTYPE=image/jpeg:https://www.nyumbamumbi.org/wp-content/uploads/2018/02/24.jpg
END:VEVENT
BEGIN:VEVENT
DTSTART;TZID=America/Denver:20180121T080000
DTEND;TZID=America/Denver:20180121T170000
DTSTAMP:20260421T210107
CREATED:20180121T094212Z
LAST-MODIFIED:20180121T094338Z
UID:413-1516521600-1516554000@www.nyumbamumbi.org
SUMMARY:Events
DESCRIPTION:
URL:https://www.nyumbamumbi.org/events/test-event/
END:VEVENT
END:VCALENDAR